BEGIN:VCALENDAR
VERSION:2.0
PRODID:-//hacksw/handcal//NONSGML v1.0//EN
BEGIN:VEVENT
SUMMARY:Open de Billard Aunis-Saintonge
UID:9e872ffb-c6d2-4da0-8667-45f79101dad8
DTSTART:20260421T120000Z
DTEND:20260421T163000Z
LOCATION:Localisation   
CATEGORIES:Sportif
STATUS:
URL;VALUE=URI:https://billard-club-saintais.sportsregions.fr/evenements/2026/04/21/open-de-billard-aunis-saintonge-2440476
END:VEVENT
END:VCALENDAR
